BEGIN:VCALENDAR
VERSION:2.0
PRODID:-//Squarespace Inc/Squarespace 6//v6//EN
BEGIN:VEVENT
UID:5b58ed0cf950b746df7fae03@squarespace.com
DTSTAMP:20180725T215153Z
DTSTART:20180729T153000Z
DTEND:20180729T163000Z
SUMMARY:Northcote Open Home - Sunday 29th July
GEO:-36.809889;174.753864
LOCATION:44 Sylvan Avenue\, Auckland\, Auckland\, 0627\, New Zealand
END:VEVENT
END:VCALENDAR
