BEGIN:VCALENDAR
VERSION:2.0
PRODID:-//Squarespace Inc/Squarespace 6//v6//EN
BEGIN:VEVENT
UID:5b58f0732b6a2861eda3befc@squarespace.com
DTSTAMP:20180725T215122Z
DTSTART:20180809T153000Z
DTEND:20180809T163000Z
SUMMARY:Northcote Home Auction - Thursday 9th of August - Time TBC
GEO:-36.809889;174.753864
LOCATION:44 Sylvan Avenue\, Auckland\, Auckland\, 0627\, New Zealand
END:VEVENT
END:VCALENDAR
