BEGIN:VCALENDAR
VERSION:2.0
PRODID:-//Squarespace Inc/Squarespace 6//v6//EN
BEGIN:VEVENT
UID:5b58ebda88251bc70f577d9b@squarespace.com
DTSTAMP:20180725T215210Z
DTSTART:20180728T153000Z
DTEND:20180728T163000Z
SUMMARY:Northcote Open Home - Saturday 28th July
GEO:-36.809889;174.753864
LOCATION:44 Sylvan Avenue\, Auckland\, Auckland\, 0627\, New Zealand
END:VEVENT
END:VCALENDAR
