BEGIN:VCALENDAR
VERSION:2.0
PRODID:-//Squarespace Inc/Squarespace 6//v6//EN
BEGIN:VEVENT
UID:5b582412575d1fdd10e1a48c@squarespace.com
DTSTAMP:20180725T213858Z
DTSTART:20180729T181500Z
DTEND:20180729T190000Z
SUMMARY:Open Home This Sunday - 36 Colliston Rise Pinehill
GEO:-36.729282;174.717041
LOCATION:36 Colliston Rise\, Auckland\, Auckland\, 0632\, New Zealand
END:VEVENT
END:VCALENDAR
