BEGIN:VCALENDAR
VERSION:2.0
PRODID:-//Squarespace Inc/Squarespace 6//v6//EN
BEGIN:VEVENT
UID:5b35df26f950b745b91dc828@squarespace.com
DTSTAMP:20180725T213924Z
DTSTART:20180728T181500Z
DTEND:20180728T190000Z
SUMMARY:Open Home This Saturday - 36 Colliston Rise Pinehill
GEO:-36.729282;174.717041
LOCATION:36 Colliston Rise\, Auckland\, Auckland\, 0632\, New Zealand
END:VEVENT
END:VCALENDAR
